BEGIN:VCALENDAR
VERSION:2.0
PRODID:-//eventon.com NONSGML v1.0//EN
CALSCALE:GREGORIAN
METHOD:PUBLISH
BEGIN:VEVENT
UID:69ebb03f0a788
DTSTAMP:20260424T180239Z
DTSTART:20260517T100000Z
DTEND:20260517T133000Z
LOCATION:City Church 44514 20th St W
SUMMARY:Bischof Robert Stearns in der City Church in Lancaster, CA
DESCRIPTION:Bitte besuchen Sie Bischof Robert Stearns um 10:00 Uhr und 12:00 Uhr zusammen mit
Gastpastor Joe Pena bei den Gottesdiensten auf dem Campus der City Church.  Für weitere
Informationen rufen Sie bitte die Nummer 661-945-6671 an oder besuchen Sie www.citysocal.com.\nhttps://eagl
 eswings.org/events/bishop-robert-stearns-at-city-church-in-lancaster-ca/
URL:https://eagleswings.org/events/bishop-robert-stearns-at-city-church-in-lancaster-ca/
END:VEVENT
END:VCALENDAR