BEGIN:VCALENDAR
VERSION:2.0
PRODID:-//eventon.com NONSGML v1.0//EN
CALSCALE:GREGORIAN
METHOD:PUBLISH
BEGIN:VEVENT
UID:69ebaf5bc0b77
DTSTAMP:20260424T175851Z
DTSTART:20260517T100000Z
DTEND:20260517T133000Z
LOCATION:City Church 44514 20th St W
SUMMARY:El obispo Robert Stearns en la City Church de Lancaster,  CA
DESCRIPCIÓN:Únase al obispo Robert Stearns a las 10:00 a. m. y a las 12:00 p. m. con el
pastor anfitrión Joe Peña en los servicios del campus de City Church.  Para obtener más
información\,  llame al 661-945-6671 o visite www.citysocal.com.\nhttps://eagl
 eswings.org/events/bishop-robert-stearns-at-city-church-in-lancaster-ca/
URL:https://eagleswings.org/events/bishop-robert-stearns-at-city-church-in-lancaster-ca/
END:VEVENT
END:VCALENDAR