BEGIN:VCALENDAR
VERSION:2.0
PRODID:-//eventon.com NONSGML v1.0//EN
CALSCALE:GREGORIAN
METHOD:PUBLISH
BEGIN:VEVENT
UID:69e4d82b1fd52
DTSTAMP:20260419T132707Z
DTSTART:20240204T170000Z
DTEND:20240204T213000Z
LOCATION:New Season Worship Church 6555 44th Street
SUMMARY:Bishop Robert Stearns at New Season Sacramento Campus with Pastor Sammy Rodriguez
DESCRIPTION:Please join Bishop Robert Stearns at New Season Sacramento Camp
 us with host Pastor\,  Sammy Rodriguez on Sunday\,  February 4 at 9:00am PT
  and 12:00pm PT.  For more information\,  please visit www.newseasonworshi
 p.org or call (916) 758-6900.\nhttps://eagleswings.org/events/bishop-robert
 -stearns-at-new-season-sacramento-campus-with-pastor-sammy-rodriguez/
URL:https://eagleswings.org/events/bishop-robert-stearns-at-new-season-sacramento-campus-with-pastor-sammy-rodriguez/
END:VEVENT
END:VCALENDAR