BEGIN:VCALENDAR
VERSION:2.0
PRODID:-//eventon.com NONSGML v1.0//EN
CALSCALE:GREGORIAN
METHOD:PUBLISH
BEGIN:VEVENT
UID:69eb841397fef
DTSTAMP:20260424T145411Z
DTSTART:20260517T100000Z
DTEND:20260517T133000Z
LOCATION:City Church 44514 20th St W
SUMMARY:Bishop Robert Stearns at City Church in Lancaster\,  CA
DESCRIPTION:Please join Bishop Robert Stearns at 10:00am and 12:00pm with h
 ost Pastor Joe Pena at their City Church campus services.  For more inform
 ation\,  please call 661-945-6671 or visit www.citysocal.com.\nhttps://eagl
 eswings.org/events/bishop-robert-stearns-at-city-church-in-lancaster-ca/
URL:https://eagleswings.org/events/bishop-robert-stearns-at-city-church-in-lancaster-ca/
END:VEVENT
END:VCALENDAR