BEGIN:VCALENDAR
VERSION:2.0
PRODID:-//eventon.com NONSGML v1.0//EN
CALSCALE:GREGORIAN
METHOD:PUBLISH
BEGIN:VEVENT
UID:69ea1854a2ae9
DTSTAMP:20260423T130212Z
DTSTART:20260502T180000Z
DTEND:20260503T193000Z
LOCATION:Trinity Community Church
SUMMARY:Bishop Robert Stearns at Trinity Community Church in Hockessin\,  DE
DESCRIPTION:Please join Bishop Robert Stearns at Trinity Community Church o
 n Saturday\,  May 2nd at 6:00pm and Sunday\,  May 3rd at 8:30am\,  10:00am\
 ,  11:30am\,  and 6:00pm services with host Pastors T.J. and Robin Harris.Â
   For more information\,  please call 302-234-8007 or visit www.tccde.com.\
 nhttps://eagleswings.org/events/bishop-robert-stearns-at-trinity-community-
 church-in-hockessin-de-3/
URL:https://eagleswings.org/events/bishop-robert-stearns-at-trinity-community-church-in-hockessin-de-3/
END:VEVENT
END:VCALENDAR