BEGIN:VCALENDAR
VERSION:2.0
PRODID:-//eventon.com NONSGML v1.0//EN
CALSCALE:GREGORIAN
METHOD:PUBLISH
BEGIN:VEVENT
UID:69e9ecbaece37
DTSTAMP:20260423T095610Z
DTSTART:20260517T100000Z
DTEND:20260517T133000Z
LOCATION:シティ・チャーチ 44514 20th St W
SUMMARY:カリフォルニア州ランカスターのシティ・チャーチにて、ロバート・スターンズ司教
DESCRIPTION:午前10時と正午に、ホストのジョー・ペナ牧師と共に、シティ・チャーチ・キャンパスで行われる礼拝に、ロバート・スターンズ司教と共にご参加ください。詳細については、661-945-6671までお電話いただくか、www.citysocal.com をご覧ください。\nhttps://eagl
 eswings.org/events/bishop-robert-stearns-at-city-church-in-lancaster-ca/
URL:https://eagleswings.org/events/bishop-robert-stearns-at-city-church-in-lancaster-ca/
END:VEVENT
END:VCALENDAR