BEGIN:VCALENDAR
VERSION:2.0
PRODID:-//eventon.com NONSGML v1.0//EN
CALSCALE:GREGORIAN
METHOD:PUBLISH
BEGIN:VEVENT
UID:69ebb06e9485f
DTSTAMP:20260424T180326Z
DTSTART:20260517T100000Z
DTEND:20260517T133000Z
LOCATION:City Church 44514 20th St W
SUMMARY:캘리포니아주 랭커스터 시티 교회에서 열리는 로버트 스턴스 주교 행사
설명: 오전 10시와 오후 12시에 시티 교회 캠퍼스에서 열리는 예배에 로버트 스턴스 주교와
사회자 조 페나 목사와 함께해 주십시오. 자세한 정보는
661-945-6671로 전화하시거나 www.citysocal.com을 방문해 주십시오.\nhttps://eagl
 eswings.org/events/bishop-robert-stearns-at-city-church-in-lancaster-ca/
URL:https://eagleswings.org/events/bishop-robert-stearns-at-city-church-in-lancaster-ca/
END:VEVENT
END:VCALENDAR