BEGIN:VCALENDAR
VERSION:2.0
PRODID:-//eventon.com NONSGML v1.0//EN
CALSCALE:GREGORIAN
METHOD:PUBLISH
BEGIN:VEVENT
UID:69ebb06744858
DTSTAMP:20260424T180319Z
DTSTART:20260517T100000Z
DTEND:20260517T133000Z
LOCATION:City Church 44514 20th St W
SUMMARY:Bispo Robert Stearns na City Church em Lancaster, CA
DESCRIPTION:Junte-se ao Bispo Robert Stearns às 10h00 e às 12h00, com o
anfitrião Pastor Joe Pena, nos cultos do campus da City Church.  Para mais
informações\,  ligue para o 661-945-6671 ou visite www.citysocal.com.\nhttps://eagl
 eswings.org/events/bishop-robert-stearns-at-city-church-in-lancaster-ca/
URL:https://eagleswings.org/events/bishop-robert-stearns-at-city-church-in-lancaster-ca/
END:VEVENT
END:VCALENDAR