BEGIN:VCALENDAR
VERSION:2.0
PRODID:-//eventon.com NONSGML v1.0//EN
CALSCALE:GREGORIAN
METHOD:PUBLISH
BEGIN:VEVENT
UID:69ebaddb573ae
DTSTAMP:20260424T175227Z
DTSTART:20260517T100000Z
DTEND:20260517T133000Z
LOCATION:城市教会，西20街44514号
SUMMARY:罗伯特·斯特恩斯主教将在加利福尼亚州兰开斯特市的城市教会
活动详情：请于上午10:00及中午12:00参加罗伯特·斯特恩斯主教与
 主持人乔·佩纳牧师在城市教会校区举行的礼拜。如需更多
 信息，请致电661-945-6671或访问 www.citysocal.com。\nhttps://eagl
 eswings.org/events/bishop-robert-stearns-at-city-church-in-lancaster-ca/
URL:https://eagleswings.org/events/bishop-robert-stearns-at-city-church-in-lancaster-ca/
END:VEVENT
END:VCALENDAR